BEGIN:VCALENDAR
VERSION:2.0
PRODID:-//SecurityBridge - ECPv6.15.11//NONSGML v1.0//EN
CALSCALE:GREGORIAN
METHOD:PUBLISH
X-WR-CALNAME:SecurityBridge
X-ORIGINAL-URL:https://securitybridge.com
X-WR-CALDESC:Events for SecurityBridge
REFRESH-INTERVAL;VALUE=DURATION:PT1H
X-Robots-Tag:noindex
X-PUBLISHED-TTL:PT1H
BEGIN:VTIMEZONE
TZID:Europe/Berlin
BEGIN:DAYLIGHT
TZOFFSETFROM:+0100
TZOFFSETTO:+0200
TZNAME:CEST
DTSTART:20240331T010000
END:DAYLIGHT
BEGIN:STANDARD
TZOFFSETFROM:+0200
TZOFFSETTO:+0100
TZNAME:CET
DTSTART:20241027T010000
END:STANDARD
BEGIN:DAYLIGHT
TZOFFSETFROM:+0100
TZOFFSETTO:+0200
TZNAME:CEST
DTSTART:20250330T010000
END:DAYLIGHT
BEGIN:STANDARD
TZOFFSETFROM:+0200
TZOFFSETTO:+0100
TZNAME:CET
DTSTART:20251026T010000
END:STANDARD
BEGIN:DAYLIGHT
TZOFFSETFROM:+0100
TZOFFSETTO:+0200
TZNAME:CEST
DTSTART:20260329T010000
END:DAYLIGHT
BEGIN:STANDARD
TZOFFSETFROM:+0200
TZOFFSETTO:+0100
TZNAME:CET
DTSTART:20261025T010000
END:STANDARD
BEGIN:DAYLIGHT
TZOFFSETFROM:+0100
TZOFFSETTO:+0200
TZNAME:CEST
DTSTART:20270328T010000
END:DAYLIGHT
BEGIN:STANDARD
TZOFFSETFROM:+0200
TZOFFSETTO:+0100
TZNAME:CET
DTSTART:20271031T010000
END:STANDARD
END:VTIMEZONE
BEGIN:VEVENT
DTSTART;VALUE=DATE:20260129
DTEND;VALUE=DATE:20260130
DTSTAMP:20260421T103837
CREATED:20251208T212039Z
LAST-MODIFIED:20260129T092115Z
UID:50040-1769644800-1769731199@securitybridge.com
SUMMARY:Secure Together on the Road: London 2026
DESCRIPTION:Join us at Secure Together on the Road – London 2026 to explore the latest in SAP security\, connect with leading SAP professionals from across Europe\, and discover how SecurityBridge is redefining enterprise protection—natively integrated\, built for modern threats\, and ready for the evolving challenges of today’s digital landscape. \n\nJanuary 29\, 2026\nAccenture Office\, London
URL:https://securitybridge.com/event/secure-together-on-the-road-london-2026/
CATEGORIES:Secure Together on the Road
ATTACH;FMTTYPE=image/png:https://securitybridge.com/wp-content/uploads/2025/11/ST-London-Banners-Visuals-3.png
END:VEVENT
BEGIN:VEVENT
DTSTART;VALUE=DATE:20251112
DTEND;VALUE=DATE:20251113
DTSTAMP:20260421T103837
CREATED:20251208T212122Z
LAST-MODIFIED:20251208T212122Z
UID:50042-1762905600-1762991999@securitybridge.com
SUMMARY:Secure Together on the Road: New York 2025
DESCRIPTION:Join us at Secure Together on the Road – New York 2025 to explore the future of SAP security\, engage with leading experts and peers across North America\, and discover how SecurityBridge empowers organizations with real-time protection—natively integrated\, built for modern risks\, and designed for today’s evolving enterprise landscape. \n\nNovember 12\, 2025\nAccenture Office
URL:https://securitybridge.com/event/secure-together-on-the-road-new-york-2025/
CATEGORIES:Secure Together on the Road
ATTACH;FMTTYPE=image/png:https://securitybridge.com/wp-content/uploads/2025/09/ST-New-York-Banners-Visuals.png
END:VEVENT
BEGIN:VEVENT
DTSTART;VALUE=DATE:20251111
DTEND;VALUE=DATE:20251112
DTSTAMP:20260421T103837
CREATED:20251117T212416Z
LAST-MODIFIED:20251126T124737Z
UID:49523-1762819200-1762905599@securitybridge.com
SUMMARY:Secure Together on the Road: Sydney 2025
DESCRIPTION:Join us at Secure Together on the Road – Sydney 2025 for a day dedicated to advancing SAP security\, sharing insights\, and building stronger connections within the ANZ SAP community. Discover how SecurityBridge is helping enterprises safeguard critical systems—seamlessly integrated into SAP\, engineered for modern cyber risks\, and tailored to the evolving needs of today’s digital landscape.
URL:https://securitybridge.com/event/secure-together-on-the-road-sydney-2025/
CATEGORIES:Secure Together on the Road
ATTACH;FMTTYPE=image/webp:https://securitybridge.com/wp-content/uploads/2025/10/Secure-Together-Sydney-1.webp
END:VEVENT
BEGIN:VEVENT
DTSTART;VALUE=DATE:20251029
DTEND;VALUE=DATE:20251030
DTSTAMP:20260421T103837
CREATED:20251208T212228Z
LAST-MODIFIED:20251208T212228Z
UID:50044-1761696000-1761782399@securitybridge.com
SUMMARY:Secure Together on the Road: Toronto 2025
DESCRIPTION:Engage with industry experts\, connect with SAP professionals from across North America\, and gain insights into how SecurityBridge and partners are advancing SAP security—natively integrated\, proactive against modern threats\, and tailored to the evolving needs of today’s enterprises. \n\nOct 29\, 2025\nAccenture\, Scotia Plaza Tower\, Toronto
URL:https://securitybridge.com/event/secure-together-on-the-road-toronto-2025/
CATEGORIES:Secure Together on the Road
ATTACH;FMTTYPE=image/png:https://securitybridge.com/wp-content/uploads/2025/10/ST-2025-6.png
END:VEVENT
BEGIN:VEVENT
DTSTART;VALUE=DATE:20251002
DTEND;VALUE=DATE:20251003
DTSTAMP:20260421T103837
CREATED:20251208T212354Z
LAST-MODIFIED:20251208T212354Z
UID:50048-1759363200-1759449599@securitybridge.com
SUMMARY:Secure Together on the Road: Singapore 2025
DESCRIPTION:Join us at Secure Together on the Road – Singapore 2025 to explore the latest in SAP security\, connect with regional and global SAP professionals\, and discover how SecurityBridge is redefining SAP security—natively integrated\, built for modern threats\, and ready for the unique challenges of the APAC region. \n\nOct 2\, 2025\nFullerton Hotel\, Singapore
URL:https://securitybridge.com/event/secure-together-on-the-road-singapore-2025/
CATEGORIES:Secure Together on the Road
ATTACH;FMTTYPE=image/png:https://securitybridge.com/wp-content/uploads/2025/07/ST-Singapore-Banners-Visuals-5.png
END:VEVENT
BEGIN:VEVENT
DTSTART;VALUE=DATE:20250930
DTEND;VALUE=DATE:20251001
DTSTAMP:20260421T103837
CREATED:20251208T212316Z
LAST-MODIFIED:20251208T212316Z
UID:50046-1759190400-1759276799@securitybridge.com
SUMMARY:Secure Together on the Road: Copenhagen 2025
DESCRIPTION:Don’t miss this exclusive SAP Security and cybersecurity evening in Copenhagen! Join SAP security experts and peers for insightful sessions followed by a relaxed dinner and networking. Reserve your seat today! \n\nCopenhagen\, Denmark\nSeptember 30th\, 2025\n15:30 – 20:00
URL:https://securitybridge.com/event/secure-together-on-the-road-copenhagen-2025/
CATEGORIES:Secure Together on the Road
ATTACH;FMTTYPE=image/png:https://securitybridge.com/wp-content/uploads/2025/06/ST-Copenhagen-2025.png
END:VEVENT
END:VCALENDAR