BEGIN:VCALENDAR
VERSION:2.0
PRODID:-//SecurityBridge - ECPv6.15.11//NONSGML v1.0//EN
CALSCALE:GREGORIAN
METHOD:PUBLISH
X-ORIGINAL-URL:https://securitybridge.com
X-WR-CALDESC:Events for SecurityBridge
REFRESH-INTERVAL;VALUE=DURATION:PT1H
X-Robots-Tag:noindex
X-PUBLISHED-TTL:PT1H
BEGIN:VTIMEZONE
TZID:Europe/Berlin
BEGIN:DAYLIGHT
TZOFFSETFROM:+0100
TZOFFSETTO:+0200
TZNAME:CEST
DTSTART:20250330T010000
END:DAYLIGHT
BEGIN:STANDARD
TZOFFSETFROM:+0200
TZOFFSETTO:+0100
TZNAME:CET
DTSTART:20251026T010000
END:STANDARD
BEGIN:DAYLIGHT
TZOFFSETFROM:+0100
TZOFFSETTO:+0200
TZNAME:CEST
DTSTART:20260329T010000
END:DAYLIGHT
BEGIN:STANDARD
TZOFFSETFROM:+0200
TZOFFSETTO:+0100
TZNAME:CET
DTSTART:20261025T010000
END:STANDARD
BEGIN:DAYLIGHT
TZOFFSETFROM:+0100
TZOFFSETTO:+0200
TZNAME:CEST
DTSTART:20270328T010000
END:DAYLIGHT
BEGIN:STANDARD
TZOFFSETFROM:+0200
TZOFFSETTO:+0100
TZNAME:CET
DTSTART:20271031T010000
END:STANDARD
END:VTIMEZONE
BEGIN:VEVENT
DTSTART;VALUE=DATE:20260514
DTEND;VALUE=DATE:20260516
DTSTAMP:20260423T113041
CREATED:20260202T134934Z
LAST-MODIFIED:20260202T134934Z
UID:50981-1778716800-1778889599@securitybridge.com
SUMMARY:MasteringSAP Collaborate: Singapore 2026
DESCRIPTION:Meet SecurityBridge at Mastering SAP Singapore to explore SAP innovation\, cloud transformation\, and security—built natively for SAP and trusted globally.
URL:https://securitybridge.com/event/mastering-sap-collaborate-singapore-2026-masteringsap-collaborate/
LOCATION:voco Orchard Singapore\, Singapore
CATEGORIES:Tradeshows
ATTACH;FMTTYPE=image/png:https://securitybridge.com/wp-content/uploads/2026/02/MasteringSAP-Collaborate-2026-1.png
END:VEVENT
BEGIN:VEVENT
DTSTART;VALUE=DATE:20260519
DTEND;VALUE=DATE:20260522
DTSTAMP:20260423T113041
CREATED:20260202T141940Z
LAST-MODIFIED:20260202T141940Z
UID:50996-1779148800-1779407999@securitybridge.com
SUMMARY:SAP Sapphire Madrid 2026
DESCRIPTION:Meet SecurityBridge at SAP SAPPHIRE NOW Madrid to explore SAP innovation\, cloud transformation\, and security—built natively for SAP and trusted globally.
URL:https://securitybridge.com/event/sap-sapphire-madrid-2026/
LOCATION:Madrid\, Spain
CATEGORIES:Tradeshows
ATTACH;FMTTYPE=image/png:https://securitybridge.com/wp-content/uploads/2026/02/SAP-Sapphire-Madrid-2026.png
END:VEVENT
BEGIN:VEVENT
DTSTART;VALUE=DATE:20260610
DTEND;VALUE=DATE:20260611
DTSTAMP:20260423T113041
CREATED:20260218T071447Z
LAST-MODIFIED:20260218T071447Z
UID:51376-1781049600-1781135999@securitybridge.com
SUMMARY:SAP Cybersecurity Bootcamp: Rotterdam 2026
DESCRIPTION:Hands-on SAP Cybersecurity Bootcamp and Security & Controls Masterclass in Rotterdam delivering practical training on SAP security\, GRC\, ABAP code protection\, BTP security\, threat detection\, and real-world attack defense.
URL:https://securitybridge.com/event/sap-cybersecurity-bootcamp-rotterdam-2026/
LOCATION:Accenture Office\, Rotterdam\, Netherlands
CATEGORIES:Secure Together on the Road
ATTACH;FMTTYPE=image/png:https://securitybridge.com/wp-content/uploads/2026/02/ST-Texas-Banners-Visuals-1.png
END:VEVENT
BEGIN:VEVENT
DTSTART;VALUE=DATE:20260611
DTEND;VALUE=DATE:20260612
DTSTAMP:20260423T113041
CREATED:20251208T211745Z
LAST-MODIFIED:20260409T070303Z
UID:50036-1781136000-1781222399@securitybridge.com
SUMMARY:Secure Together on the Road: Rotterdam 2026
DESCRIPTION:Join us at Secure Together on the Road – Rotterdam 2026\, get onboard to explore the future of SAP security\, connect with leading experts and peers from across Europe\, and discover how SecurityBridge empowers organizations with real-time protection—natively integrated\, built for modern risks\, and designed for today’s rapidly evolving enterprise landscape. \n\nThursday | June 11th\, 2026\nSS Rotterdam\, Netherlands
URL:https://securitybridge.com/event/secure-together-on-the-road-rotterdam-2026/
CATEGORIES:Secure Together on the Road
ATTACH;FMTTYPE=image/png:https://securitybridge.com/wp-content/uploads/2025/12/ST-Rotterdam-2026-Banners-Visuals-14.png
END:VEVENT
BEGIN:VEVENT
DTSTART;VALUE=DATE:20261117
DTEND;VALUE=DATE:20261120
DTSTAMP:20260423T113041
CREATED:20260202T144157Z
LAST-MODIFIED:20260202T144157Z
UID:51008-1794873600-1795132799@securitybridge.com
SUMMARY:SAPinsider EMEA 2026
DESCRIPTION:Meet SecurityBridge at SAPinsider EMEA to explore SAP transformation\, governance\, and security—built natively for SAP and trusted globally.
URL:https://securitybridge.com/event/sapinsider-emea-2026/
LOCATION:Copenhagen\, Denmark
CATEGORIES:Tradeshows
ATTACH;FMTTYPE=image/png:https://securitybridge.com/wp-content/uploads/2026/02/Sapinsider-EMEA-2026-1.png
END:VEVENT
END:VCALENDAR